BEGIN:VCALENDAR
VERSION:2.0
PRODID:-//Building Blocks of Islam - ECPv6.15.20//NONSGML v1.0//EN
CALSCALE:GREGORIAN
METHOD:PUBLISH
X-WR-CALNAME:Building Blocks of Islam
X-ORIGINAL-URL:https://www.thebuildingblocks.org
X-WR-CALDESC:Events for Building Blocks of Islam
REFRESH-INTERVAL;VALUE=DURATION:PT1H
X-Robots-Tag:noindex
X-PUBLISHED-TTL:PT1H
BEGIN:VTIMEZONE
TZID:UTC
BEGIN:STANDARD
TZOFFSETFROM:+0000
TZOFFSETTO:+0000
TZNAME:UTC
DTSTART:20170101T000000
END:STANDARD
END:VTIMEZONE
BEGIN:VEVENT
DTSTART;TZID=UTC:20180331T110000
DTEND;TZID=UTC:20180331T143000
DTSTAMP:20260423T180755
CREATED:20180321T012330Z
LAST-MODIFIED:20180321T014646Z
UID:1847-1522494000-1522506600@www.thebuildingblocks.org
SUMMARY:Building Blocks Food Shelf
DESCRIPTION:Description: Distribution team tasks: (11 AM – 2:30 PM) @ Chase House. \n\nUnload food at Chase community room\nDistribute food\, clean/wrap up
URL:https://www.thebuildingblocks.org/event/building-blocks-food-shelf-2/
LOCATION:Chase House (Community Room)\, 1530 S. 6th St.\, Minneapolis\, MN\, 55454\, United States
CATEGORIES:Monthly Event
END:VEVENT
BEGIN:VEVENT
DTSTART;TZID=UTC:20180331T093000
DTEND;TZID=UTC:20180331T123000
DTSTAMP:20260423T180755
CREATED:20180321T011802Z
LAST-MODIFIED:20180321T014723Z
UID:1844-1522488600-1522499400@www.thebuildingblocks.org
SUMMARY:Building Blocks Food Shelf Truck Loading
DESCRIPTION:Transportation team tasks: (9:30 am – 12:30 pm) \n\nLoad food boxes in Truck/Van from MAS Blaine center.\nUnload food at the distribution location
URL:https://www.thebuildingblocks.org/event/building-blocks-foodshelf-truck-loading-2/
LOCATION:MAS Blaine Center\, 12175 Aberdeen St\, Blaine\, MN\, 55449\, United States
CATEGORIES:Monthly Event
END:VEVENT
BEGIN:VEVENT
DTSTART;TZID=UTC:20180310T110000
DTEND;TZID=UTC:20180310T130000
DTSTAMP:20260423T180755
CREATED:20180306T144246Z
LAST-MODIFIED:20180306T144246Z
UID:1841-1520679600-1520686800@www.thebuildingblocks.org
SUMMARY:Blaine Food Shelf
DESCRIPTION:Volunteers set up food on tables 11 am-Noon.\nFood distribution for recipients begins from Noon-1 pm.\nVolunteers help clients to bag and carry the food.\nMove leftover food from tables to food shelf room 1:00 -1:30 pm
URL:https://www.thebuildingblocks.org/event/blaine-food-shelf/
LOCATION:MAS Blaine Center\, 12175 Aberdeen St\, Blaine\, MN\, 55449\, United States
CATEGORIES:Monthly Event
END:VEVENT
BEGIN:VEVENT
DTSTART;TZID=UTC:20180224T110000
DTEND;TZID=UTC:20180224T143000
DTSTAMP:20260423T180755
CREATED:20180222T181916Z
LAST-MODIFIED:20180222T181916Z
UID:1836-1519470000-1519482600@www.thebuildingblocks.org
SUMMARY:Building Blocks Food Shelf
DESCRIPTION:Distribution team tasks: (11 AM – 2:30 PM) @ Chase House.\n1. Unload food at Chase community room\n2. Distribute food\, clean/wrap up
URL:https://www.thebuildingblocks.org/event/building-blocks-food-shelf/
LOCATION:Chase House (Community Room)\, 1530 S. 6th St.\, Minneapolis\, MN\, 55454\, United States
CATEGORIES:Monthly Event
END:VEVENT
BEGIN:VEVENT
DTSTART;TZID=UTC:20180224T093000
DTEND;TZID=UTC:20180224T123000
DTSTAMP:20260423T180755
CREATED:20180222T181932Z
LAST-MODIFIED:20180222T181932Z
UID:1833-1519464600-1519475400@www.thebuildingblocks.org
SUMMARY:Building Blocks Foodshelf Truck Loading
DESCRIPTION:Transportation team tasks: (9:30 am – 12:30 pm)\n1. Load food boxes in Truck/Van from MAS Blaine center\n2. Unload food at distribution location
URL:https://www.thebuildingblocks.org/event/building-blocks-foodshelf-truck-loading/
LOCATION:MAS Blaine Center\, 12175 Aberdeen St\, Blaine\, MN\, 55449\, United States
CATEGORIES:Monthly Event
END:VEVENT
END:VCALENDAR